BEGIN:VCALENDAR
VERSION:2.0
PRODID:-//Bookingfax//ES
BEGIN:VEVENT
UID:69e5e926a4c7a
DTSTAMP:20250514T083000Z
DTSTART:20250514T083000Z
DTEND:20250514T093000Z
SUMMARY:Descubre la Costa Brava y Benidorm con Meliá
DESCRIPTION:
END:VEVENT
END:VCALENDAR