BEGIN:VCALENDAR
VERSION:2.0
PRODID:-//Bookingfax//ES
BEGIN:VEVENT
UID:69e5ea522b6c5
DTSTAMP:20260113T093000Z
DTSTART:20260113T093000Z
DTEND:20260113T103000Z
SUMMARY:Colombia enamora, el país que lo tiene todo con TUI
DESCRIPTION:
END:VEVENT
END:VCALENDAR