BEGIN:VCALENDAR
VERSION:2.0
PRODID:-//Bookingfax//ES
BEGIN:VEVENT
UID:69e527733eb88
DTSTAMP:20260318T093000Z
DTSTART:20260318T093000Z
DTEND:20260318T103000Z
SUMMARY:Descubre Alicante con Meliá: Tres hoteles, un destino inolvidable
DESCRIPTION:
END:VEVENT
END:VCALENDAR