BEGIN:VCALENDAR
VERSION:2.0
PRODID:-//Bookingfax//ES
BEGIN:VEVENT
UID:69e4ee55225ed
DTSTAMP:20190212T093000Z
DTSTART:20190212T093000Z
DTEND:20190212T103000Z
SUMMARY:Descubre qué te ofrece la nieve junto con Meliá
DESCRIPTION:
END:VEVENT
END:VCALENDAR