BEGIN:VCALENDAR
VERSION:2.0
PRODID:-//Bookingfax//ES
BEGIN:VEVENT
UID:69e55e9681895
DTSTAMP:20201119T093000Z
DTSTART:20201119T093000Z
DTEND:20201119T103000Z
SUMMARY:MeliáProTravel Labs: Descubre las novedades y una nueva forma de comunicación
DESCRIPTION:
END:VEVENT
END:VCALENDAR