BEGIN:VCALENDAR
VERSION:2.0
PRODID:-//Bookingfax//ES
BEGIN:VEVENT
UID:69e554332ec0d
DTSTAMP:20250605T083000Z
DTSTART:20250605T083000Z
DTEND:20250605T093000Z
SUMMARY:Descubre Colombia, el país de la belleza con Iberia, Colombia Travel y TUI
DESCRIPTION:
END:VEVENT
END:VCALENDAR