BEGIN:VCALENDAR
VERSION:2.0
PRODID:-//Bookingfax//ES
BEGIN:VEVENT
UID:69e52c1179568
DTSTAMP:20251028T093000Z
DTSTART:20251028T093000Z
DTEND:20251028T103000Z
SUMMARY:Déjate sorprender por Australia con TUI y Qatar Airways
DESCRIPTION:
END:VEVENT
END:VCALENDAR