BEGIN:VCALENDAR
VERSION:2.0
PRODID:-//Bookingfax//ES
BEGIN:VEVENT
UID:69e5c8427ac8b
DTSTAMP:20260217T093000Z
DTSTART:20260217T093000Z
DTEND:20260217T103000Z
SUMMARY:Descubre Abu Dabi, un oasis de lujo y cultura en el corazón del desierto
DESCRIPTION:
END:VEVENT
END:VCALENDAR